BEGIN:VCALENDAR
VERSION:2.0
PRODID:-//planningforadultlife.org//NONSGML kigkonsult.se iCalcreator 2.30.
 10//
CALSCALE:GREGORIAN
METHOD:PUBLISH
UID:165546d3-7105-4673-9209-f12ca0e5a3f9
X-WR-CALDESC:This expo will start with an opening session on why planning i
 s critical and how to start a plan for your child with I/DD. The second se
 ssion will be explaining SSI and Medicaid and why you need to apply. After
  a break for attendees to visit with our service providers who will have i
 nformation tables set up\, the last session offers a choice of workshops o
 n 3 topics.
X-WR-RELCALID:833ab473eab855d58d9ccd939fb91110
X-WR-TIMEZONE:America/New_York
BEGIN:VTIMEZONE
TZID:America/New_York
BEGIN:STANDARD
TZNAME:EST
DTSTART:20181104T020000
TZOFFSETFROM:-0400
TZOFFSETTO:-0500
RDATE:20191103T020000
RDATE:20201101T020000
END:STANDARD
BEGIN:DAYLIGHT
TZNAME:EDT
DTSTART:20190310T020000
TZOFFSETFROM:-0500
TZOFFSETTO:-0400
RDATE:20200308T020000
END:DAYLIGHT
END:VTIMEZONE
BEGIN:VEVENT
UID:cf337444-46ad-4de8-b71e-f09d952d8bb0
DTSTAMP:20260424T195511Z
DESCRIPTION:This expo will start with an opening session on why planning is
  critical and how to start a plan for your child with I/DD. The second ses
 sion will be explaining SSI and Medicaid and why you need to apply. After 
 a break for attendees to visit with our service providers who will have in
 formation tables set up\, the last session offers a choice of workshops on
  3 topics.
DTSTART;TZID=America/New_York:20190518T090000
DTEND;TZID=America/New_York:20190518T130000
LOCATION:Special Olympics NJ
SUMMARY:FREE Parent Forum & Opportunity Expo-Lawrenceville
END:VEVENT
END:VCALENDAR
