BEGIN:VCALENDAR
VERSION:2.0
PRODID:-//planningforadultlife.org//NONSGML kigkonsult.se iCalcreator 2.30.
 10//
CALSCALE:GREGORIAN
METHOD:PUBLISH
UID:64a7032c-67d6-4eb5-a9ad-8e00af1a42fe
X-WR-CALDESC:Transitioning into Adulthood – Information about DDD Services 
 for the 2020 Graduates\n\nThis webinar\, presented by the Director of the 
 Employment & Transition to 21 Unit\, will provide information about access
 ing Division of Developmental Disabilities (DDD) services for students exi
 ting the school system. It will include an overview of DDD\, information a
 bout the eligibility process\, and accessing services. The discussion will
  also include information about services during the current situation rela
 ted to COVID-19 and ideas of some planning that can be done during this ti
 me when we are staying at home.\n
X-WR-RELCALID:547f2cb2393f1245b20e2bf7c256b8b5
X-WR-TIMEZONE:America/New_York
BEGIN:VTIMEZONE
TZID:America/New_York
BEGIN:STANDARD
TZNAME:EST
DTSTART:20191103T020000
TZOFFSETFROM:-0400
TZOFFSETTO:-0500
RDATE:20201101T020000
RDATE:20211107T020000
END:STANDARD
BEGIN:DAYLIGHT
TZNAME:EDT
DTSTART:20200308T020000
TZOFFSETFROM:-0500
TZOFFSETTO:-0400
RDATE:20210314T020000
END:DAYLIGHT
END:VTIMEZONE
BEGIN:VEVENT
UID:28029726-9a39-4c0a-98b9-ffd3bf88b392
DTSTAMP:20260423T210902Z
DESCRIPTION:Transitioning into Adulthood – Information about DDD Services f
 or the 2020 Graduates\n\nThis webinar\, presented by the Director of the E
 mployment & Transition to 21 Unit\, will provide information about accessi
 ng Division of Developmental Disabilities (DDD) services for students exit
 ing the school system. It will include an overview of DDD\, information ab
 out the eligibility process\, and accessing services. The discussion will 
 also include information about services during the current situation relat
 ed to COVID-19 and ideas of some planning that can be done during this tim
 e when we are staying at home.\n
DTSTART;TZID=America/New_York:20200519T130000
DTEND;TZID=America/New_York:20200519T150000
LOCATION:
SUMMARY:Webinar Wednesday:    Transitioning into Adulthood – Information ab
 out DDD Services for the 2020 Graduates
END:VEVENT
END:VCALENDAR
