BEGIN:VCALENDAR
VERSION:2.0
PRODID:-//planningforadultlife.org//NONSGML kigkonsult.se iCalcreator 2.30.
 10//
CALSCALE:GREGORIAN
METHOD:PUBLISH
UID:64bbab55-9dfd-438f-a6f1-ce2478e7304b
X-WR-CALDESC:State Services for Students with I/DD\n\nNew Jersey programs p
 rovide many supports and services including family support\, crisis interv
 ention\, after school programs\, summer camp and intensive in-home and out
 -of-home supports\, just to name a few.  This presentation  will provide a
 nd overview of what these programs offer\, eligibility for services\, and 
 how young adults transition form children’s services to adult services whe
 n they turn 21. \n
X-WR-RELCALID:8f0b3ed12b4f4136993a2b9943eed32c
X-WR-TIMEZONE:America/New_York
BEGIN:VTIMEZONE
TZID:America/New_York
BEGIN:STANDARD
TZNAME:EST
DTSTART:20211107T020000
TZOFFSETFROM:-0400
TZOFFSETTO:-0500
RDATE:20221106T020000
END:STANDARD
BEGIN:DAYLIGHT
TZNAME:EDT
DTSTART:20210314T020000
TZOFFSETFROM:-0500
TZOFFSETTO:-0400
RDATE:20220313T020000
RDATE:20230312T020000
END:DAYLIGHT
END:VTIMEZONE
BEGIN:VEVENT
UID:dc218a05-d35c-4680-883d-ec6b71a57d48
DTSTAMP:20260421T191746Z
DESCRIPTION:State Services for Students with I/DD\n\nNew Jersey programs pr
 ovide many supports and services including family support\, crisis interve
 ntion\, after school programs\, summer camp and intensive in-home and out-
 of-home supports\, just to name a few.  This presentation  will provide an
 d overview of what these programs offer\, eligibility for services\, and h
 ow young adults transition form children’s services to adult services when
  they turn 21. \n
DTSTART;TZID=America/New_York:20220125T180000
DTEND;TZID=America/New_York:20220125T190000
LOCATION:
SUMMARY:State Services for Students with I/DD
END:VEVENT
END:VCALENDAR
