BEGIN:VCALENDAR
VERSION:2.0
PRODID:-//planningforadultlife.org//NONSGML kigkonsult.se iCalcreator 2.30.
 10//
CALSCALE:GREGORIAN
METHOD:PUBLISH
UID:9e8e7c0e-d77b-4e14-853c-d1e4be6ef13d
X-WR-CALDESC:Getting The Most Out Of Your High School Experience (HOW Serie
 s) \n\nAs a parent\, you want to help your child make choices that are bes
 t for his or her needs. This workshop will explain the role your school di
 strict will play in the transition process and how you can prepare your ch
 ild for adult life.  \n
X-WR-RELCALID:6430b3e8b3c5f795d5a3b0be3df1a4ef
X-WR-TIMEZONE:America/New_York
BEGIN:VTIMEZONE
TZID:America/New_York
BEGIN:STANDARD
TZNAME:EST
DTSTART:20211107T020000
TZOFFSETFROM:-0400
TZOFFSETTO:-0500
RDATE:20221106T020000
RDATE:20231105T020000
END:STANDARD
BEGIN:DAYLIGHT
TZNAME:EDT
DTSTART:20220313T020000
TZOFFSETFROM:-0500
TZOFFSETTO:-0400
RDATE:20230312T020000
END:DAYLIGHT
END:VTIMEZONE
BEGIN:VEVENT
UID:8ebd640d-7f38-475e-a556-bbc44f860bea
DTSTAMP:20260424T021401Z
DESCRIPTION:Getting The Most Out Of Your High School Experience (HOW Series
 ) \n\nAs a parent\, you want to help your child make choices that are best
  for his or her needs. This workshop will explain the role your school dis
 trict will play in the transition process and how you can prepare your chi
 ld for adult life.  \n
DTSTART;TZID=America/New_York:20220517T183000
DTEND;TZID=America/New_York:20220517T203000
LOCATION:ZOOM LINK WILL BE EMAILED
SUMMARY:Preparing To Get The Most Out Of Your High School Experience
END:VEVENT
END:VCALENDAR
