BEGIN:VCALENDAR
VERSION:2.0
PRODID:-//planningforadultlife.org//NONSGML kigkonsult.se iCalcreator 2.30.
 10//
CALSCALE:GREGORIAN
METHOD:PUBLISH
UID:7893e00f-94d2-4b47-807b-f11be9673a23
X-WR-CALDESC:Yes\, Your Child Can Work! Working Toward Employment For Peopl
 e With I/DD  For many people\, a job is something that helps define who th
 ey are. It give us a meaningful place to go everyday\, a way to explore ou
 r interests\, a means of earning money\, and a way to be a part of our com
 munity. This workshop will discuss different employment options available 
 to individuals with intellectual and developmental disabilities and hands—
 on tools for preparing students for employment.
X-WR-RELCALID:f5a41cd5b6c7a5a7657d0274bfca76ba
X-WR-TIMEZONE:America/New_York
BEGIN:VTIMEZONE
TZID:America/New_York
BEGIN:STANDARD
TZNAME:EST
DTSTART:20221106T020000
TZOFFSETFROM:-0400
TZOFFSETTO:-0500
RDATE:20231105T020000
END:STANDARD
BEGIN:DAYLIGHT
TZNAME:EDT
DTSTART:20220313T020000
TZOFFSETFROM:-0500
TZOFFSETTO:-0400
RDATE:20230312T020000
RDATE:20240310T020000
END:DAYLIGHT
END:VTIMEZONE
BEGIN:VEVENT
UID:f98fd94f-3330-4b57-8556-f7509ca4ce52
DTSTAMP:20260424T023302Z
DESCRIPTION:Yes\, Your Child Can Work! Working Toward Employment For People
  With I/DD  For many people\, a job is something that helps define who the
 y are. It give us a meaningful place to go everyday\, a way to explore our
  interests\, a means of earning money\, and a way to be a part of our comm
 unity. This workshop will discuss different employment options available t
 o individuals with intellectual and developmental disabilities and hands—o
 n tools for preparing students for employment.
DTSTART;TZID=America/New_York:20221109T180000
DTEND;TZID=America/New_York:20221109T190000
LOCATION:ZOOM will email link
SUMMARY:HOW SERIES: Yes\, Your Child Can Work! Working Toward Employment Fo
 r People With I/DD
END:VEVENT
END:VCALENDAR
