BEGIN:VCALENDAR
VERSION:2.0
PRODID:-//planningforadultlife.org//NONSGML kigkonsult.se iCalcreator 2.30.
 10//
CALSCALE:GREGORIAN
METHOD:PUBLISH
UID:7330c395-a7e6-4a3d-966f-5f3310f5b4c6
X-WR-CALDESC:
X-WR-RELCALID:1acf9d5f057a723aa21dbae10096b4f6
X-WR-TIMEZONE:America/New_York
BEGIN:VTIMEZONE
TZID:America/New_York
BEGIN:STANDARD
TZNAME:EST
DTSTART:20221106T020000
TZOFFSETFROM:-0400
TZOFFSETTO:-0500
RDATE:20231105T020000
END:STANDARD
BEGIN:DAYLIGHT
TZNAME:EDT
DTSTART:20220313T020000
TZOFFSETFROM:-0500
TZOFFSETTO:-0400
RDATE:20230312T020000
RDATE:20240310T020000
END:DAYLIGHT
END:VTIMEZONE
BEGIN:VEVENT
UID:9dc27578-94db-4943-b2aa-66e3baad5404
DTSTAMP:20260424T024207Z
DESCRIPTION:
DTSTART;TZID=America/New_York:20221116T180000
DTEND;TZID=America/New_York:20221116T190000
LOCATION:https://attendee.gotowebinar.com/register/8550450455266177805
SUMMARY:PFAL WEBINAR WEDNESDAY SERIES:  Be Prepared If Your Student Enters 
 The Criminal Justice System
END:VEVENT
END:VCALENDAR
