BEGIN:VCALENDAR
VERSION:2.0
PRODID:-//planningforadultlife.org//NONSGML kigkonsult.se iCalcreator 2.30.
 10//
CALSCALE:GREGORIAN
METHOD:PUBLISH
UID:0c4bdbee-08e2-4b74-b81e-160206c86aa6
X-WR-CALDESC:Planning For Transition: Why It Is Vital For Your Student’s Fu
 ture\nThe transition planning process includes evaluating the student’s sk
 ills\, abilities\, strengths\, challenges\, and preferences to envision th
 eir life after leaving school. Planning involves setting goals for the stu
 dent to strive toward and identifying the need for supports. Carrying out 
 the transition plan can begin and should be a part of the student’s Indivi
 dualized Educational Plan (IEP). Students and families must be actively in
 volved in the transition planning process as early as possible and keep it
  moving forward. This presentation discusses the importance of planning\, 
 the steps necessary to plan\, and provides hands–on tools to put a plan in
  place.\nSSI and Medicaid:  How To Apply and Why You Need To Do So\nThere 
 are many different ways to initiate the Medicaid eligibility process and s
 o it is important to make sure you have all the necessary information  Thi
 s workshop will help parents and caregivers understand how to access healt
 h care services for their loved ones with IDD from the current health care
  system.\n\n\n
X-WR-RELCALID:99f8d559b129c3c42b8c08adff9a85d4
X-WR-TIMEZONE:America/New_York
BEGIN:VTIMEZONE
TZID:America/New_York
BEGIN:STANDARD
TZNAME:EST
DTSTART:20221106T020000
TZOFFSETFROM:-0400
TZOFFSETTO:-0500
RDATE:20231105T020000
END:STANDARD
BEGIN:DAYLIGHT
TZNAME:EDT
DTSTART:20230312T020000
TZOFFSETFROM:-0500
TZOFFSETTO:-0400
RDATE:20240310T020000
END:DAYLIGHT
END:VTIMEZONE
BEGIN:VEVENT
UID:84942930-4364-40a7-b075-dd5035ed0a6b
DTSTAMP:20260419T140134Z
DESCRIPTION:Planning For Transition: Why It Is Vital For Your Student’s Fut
 ure\nThe transition planning process includes evaluating the student’s ski
 lls\, abilities\, strengths\, challenges\, and preferences to envision the
 ir life after leaving school. Planning involves setting goals for the stud
 ent to strive toward and identifying the need for supports. Carrying out t
 he transition plan can begin and should be a part of the student’s Individ
 ualized Educational Plan (IEP). Students and families must be actively inv
 olved in the transition planning process as early as possible and keep it 
 moving forward. This presentation discusses the importance of planning\, t
 he steps necessary to plan\, and provides hands–on tools to put a plan in 
 place.\nSSI and Medicaid:  How To Apply and Why You Need To Do So\nThere a
 re many different ways to initiate the Medicaid eligibility process and so
  it is important to make sure you have all the necessary information  This
  workshop will help parents and caregivers understand how to access health
  care services for their loved ones with IDD from the current health care 
 system.\n\n\n
DTSTART;TZID=America/New_York:20230503T180000
DTEND;TZID=America/New_York:20230503T203000
LOCATION:The Arc of Essex County\, 123 Naylon Avenue\, Livingston\, NJ 0703
 9 US
SUMMARY:HOW SERIES:  Planning For Transition: Why It Is Vital For Your Stud
 ent’s Future and SSI and Medicaid
END:VEVENT
END:VCALENDAR
