BEGIN:VCALENDAR
VERSION:2.0
PRODID:-//planningforadultlife.org//NONSGML kigkonsult.se iCalcreator 2.30.
 10//
CALSCALE:GREGORIAN
METHOD:PUBLISH
UID:6432743f-9537-4d81-adb1-fb0e4184e31c
X-WR-CALDESC:Yes\, Your Child Can Work! Working Toward Employment For Peopl
 e With I/DD  For many people\, a job is something that helps define who th
 ey are. It give us a meaningful place to go everyday\, a way to explore ou
 r interests\, a means of earning money\, and a way to be a part of our com
 munity. This workshop will discuss different employment options available 
 to individuals with intellectual and developmental disabilities and hands—
 on tools for preparing students for employment.
X-WR-RELCALID:e3f098489e26fd24c1ba7afbb3b2cddb
X-WR-TIMEZONE:America/New_York
BEGIN:VTIMEZONE
TZID:America/New_York
BEGIN:STANDARD
TZNAME:EST
DTSTART:20221106T020000
TZOFFSETFROM:-0400
TZOFFSETTO:-0500
RDATE:20231105T020000
RDATE:20241103T020000
END:STANDARD
BEGIN:DAYLIGHT
TZNAME:EDT
DTSTART:20230312T020000
TZOFFSETFROM:-0500
TZOFFSETTO:-0400
RDATE:20240310T020000
END:DAYLIGHT
END:VTIMEZONE
BEGIN:VEVENT
UID:3064aac6-9c0a-4e09-86f8-84c897250e12
DTSTAMP:20260424T004705Z
DESCRIPTION:Yes\, Your Child Can Work! Working Toward Employment For People
  With I/DD  For many people\, a job is something that helps define who the
 y are. It give us a meaningful place to go everyday\, a way to explore our
  interests\, a means of earning money\, and a way to be a part of our comm
 unity. This workshop will discuss different employment options available t
 o individuals with intellectual and developmental disabilities and hands—o
 n tools for preparing students for employment.
DTSTART;TZID=America/New_York:20230510T183000
DTEND;TZID=America/New_York:20230510T193000
LOCATION:ZOOM will email link
SUMMARY:HOW SERIES: Yes\, Your Child Can Work! Working Toward Employment Fo
 r People With I/DD
END:VEVENT
END:VCALENDAR
