BEGIN:VCALENDAR
VERSION:2.0
PRODID:-//planningforadultlife.org//NONSGML kigkonsult.se iCalcreator 2.30.
 10//
CALSCALE:GREGORIAN
METHOD:PUBLISH
UID:28929a85-dd0a-4c8c-8015-0c6af2f408f9
X-WR-CALDESC:State Services for Students with I/DD\n\nNew Jersey programs p
 rovide many supports and services including family support\, crisis interv
 ention\, after school programs\, summer camp and intensive in-home and out
 -of-home supports\, just to name a few.  This presentation  will provide a
 nd overview of what these programs offer\, eligibility for services\, and 
 how young adults transition form children’s services to adult services whe
 n they turn 21. \n
X-WR-RELCALID:e814e32f18bc9036d39281133a7ed6d5
X-WR-TIMEZONE:America/New_York
BEGIN:VTIMEZONE
TZID:America/New_York
BEGIN:STANDARD
TZNAME:EST
DTSTART:20231105T020000
TZOFFSETFROM:-0400
TZOFFSETTO:-0500
RDATE:20241103T020000
END:STANDARD
BEGIN:DAYLIGHT
TZNAME:EDT
DTSTART:20240310T020000
TZOFFSETFROM:-0500
TZOFFSETTO:-0400
RDATE:20250309T020000
END:DAYLIGHT
END:VTIMEZONE
BEGIN:VEVENT
UID:2daf3b59-ec37-4506-9a00-677a5614edff
DTSTAMP:20260419T170844Z
DESCRIPTION:State Services for Students with I/DD\n\nNew Jersey programs pr
 ovide many supports and services including family support\, crisis interve
 ntion\, after school programs\, summer camp and intensive in-home and out-
 of-home supports\, just to name a few.  This presentation  will provide an
 d overview of what these programs offer\, eligibility for services\, and h
 ow young adults transition form children’s services to adult services when
  they turn 21. \n
DTSTART;TZID=America/New_York:20240314T183000
DTEND;TZID=America/New_York:20240314T193000
LOCATION:
SUMMARY:State Services for Students with I/DD
END:VEVENT
END:VCALENDAR
