BEGIN:VCALENDAR
VERSION:2.0
PRODID:-//planningforadultlife.org//NONSGML kigkonsult.se iCalcreator 2.30.
 10//
CALSCALE:GREGORIAN
METHOD:PUBLISH
UID:5fb21cff-7676-4714-8d3b-e212c83efc20
X-WR-CALDESC:State Services for Students with I/DD\n\nNew Jersey programs p
 rovide many supports and services including family support\, crisis interv
 ention\, after school programs\, summer camp and intensive in-home and out
 -of-home supports\, just to name a few.  This presentation  will provide a
 nd overview of what these programs offer\, eligibility for services\, and 
 how young adults transition form children’s services to adult services whe
 n they turn 21. \n
X-WR-RELCALID:838b61f509d68e46c5ed0e6f3c693f8e
X-WR-TIMEZONE:America/New_York
BEGIN:VTIMEZONE
TZID:America/New_York
BEGIN:STANDARD
TZNAME:EST
DTSTART:20241103T020000
TZOFFSETFROM:-0400
TZOFFSETTO:-0500
RDATE:20251102T020000
END:STANDARD
BEGIN:DAYLIGHT
TZNAME:EDT
DTSTART:20240310T020000
TZOFFSETFROM:-0500
TZOFFSETTO:-0400
RDATE:20250309T020000
RDATE:20260308T020000
END:DAYLIGHT
END:VTIMEZONE
BEGIN:VEVENT
UID:374e3287-6068-48f4-8604-80de251b9311
DTSTAMP:20260419T213134Z
DESCRIPTION:State Services for Students with I/DD\n\nNew Jersey programs pr
 ovide many supports and services including family support\, crisis interve
 ntion\, after school programs\, summer camp and intensive in-home and out-
 of-home supports\, just to name a few.  This presentation  will provide an
 d overview of what these programs offer\, eligibility for services\, and h
 ow young adults transition form children’s services to adult services when
  they turn 21. \n
DTSTART;TZID=America/New_York:20250220T180000
DTEND;TZID=America/New_York:20250220T190000
LOCATION:zoom link will be emailed
SUMMARY:State Services for Students with I/DD/Hosted by Plainfield SEPAG
END:VEVENT
END:VCALENDAR
