BEGIN:VCALENDAR
VERSION:2.0
PRODID:-//planningforadultlife.org//NONSGML kigkonsult.se iCalcreator 2.30.
 10//
CALSCALE:GREGORIAN
METHOD:PUBLISH
UID:61c8019f-b091-4039-849c-73fb2e2235ea
X-WR-CALDESC:Guardianship can be a valuable tool to protect individuals who
  don’t or no longer possess the ability to make appropriate personal or fi
 nancial decisions for themselves. This workshop will help parents and care
 givers understand the guardianship process\, levels of guardianship and al
 ternatives to guardianship.
X-WR-RELCALID:51de6a814088028d00548353efb36f0a
X-WR-TIMEZONE:America/New_York
BEGIN:VTIMEZONE
TZID:America/New_York
BEGIN:STANDARD
TZNAME:EST
DTSTART:20241103T020000
TZOFFSETFROM:-0400
TZOFFSETTO:-0500
RDATE:20251102T020000
END:STANDARD
BEGIN:DAYLIGHT
TZNAME:EDT
DTSTART:20250309T020000
TZOFFSETFROM:-0500
TZOFFSETTO:-0400
RDATE:20260308T020000
END:DAYLIGHT
END:VTIMEZONE
BEGIN:VEVENT
UID:ed954409-f6cf-4b13-939c-77a657c05c2a
DTSTAMP:20260419T214619Z
DESCRIPTION:Guardianship can be a valuable tool to protect individuals who 
 don’t or no longer possess the ability to make appropriate personal or fin
 ancial decisions for themselves. This workshop will help parents and careg
 ivers understand the guardianship process\, levels of guardianship and alt
 ernatives to guardianship.
DTSTART;TZID=America/New_York:20250407T190000
DTEND;TZID=America/New_York:20250407T200000
LOCATION:Zoom link will be emailed
SUMMARY:HOW SERIES:  GUARDIANSHIP AND SUPPORTED DECISION:  JUST THE BASICS 
 Hosted by:  Glen Ridge Public Schools
END:VEVENT
END:VCALENDAR
