BEGIN:VCALENDAR
VERSION:2.0
PRODID:-//planningforadultlife.org//NONSGML kigkonsult.se iCalcreator 2.30.
 10//
CALSCALE:GREGORIAN
METHOD:PUBLISH
UID:8db5e3f5-bc53-419f-8046-03fbb19c72dc
X-WR-CALDESC:
X-WR-RELCALID:645d179a0f28e2bfb210e397baee42b7
X-WR-TIMEZONE:America/New_York
BEGIN:VTIMEZONE
TZID:America/New_York
BEGIN:STANDARD
TZNAME:EST
DTSTART:20251102T020000
TZOFFSETFROM:-0400
TZOFFSETTO:-0500
RDATE:20261101T020000
END:STANDARD
BEGIN:DAYLIGHT
TZNAME:EDT
DTSTART:20260308T020000
TZOFFSETFROM:-0500
TZOFFSETTO:-0400
RDATE:20270314T020000
END:DAYLIGHT
END:VTIMEZONE
BEGIN:VEVENT
UID:6cec2c8f-770b-4b40-a132-6d69420cbfac
DTSTAMP:20260422T075857Z
DESCRIPTION:
DTSTART;TZID=America/New_York:20260408T133000
DTEND;TZID=America/New_York:20260408T143000
LOCATION:https://docs.google.com/forms/d/e/1FAIpQLSdDqsFUI8SNkDvWI0rKwOIgDH
 bcdWSqOX1yOiUjGIHNL_KrNw/viewform?pli=1
SUMMARY:Youth Advisory Board Meeting- 18-21 Year Olds
END:VEVENT
END:VCALENDAR
