BEGIN:VCALENDAR
VERSION:2.0
PRODID:-//planningforadultlife.org//NONSGML kigkonsult.se iCalcreator 2.30.
 10//
CALSCALE:GREGORIAN
METHOD:PUBLISH
UID:9be40845-80c2-4593-a0eb-238812d0ad4b
X-WR-CALDESC:
X-WR-RELCALID:5f016f2ee37e4e3bbfaf22f806369303
X-WR-TIMEZONE:America/New_York
BEGIN:VTIMEZONE
TZID:America/New_York
BEGIN:STANDARD
TZNAME:EST
DTSTART:20251102T020000
TZOFFSETFROM:-0400
TZOFFSETTO:-0500
RDATE:20261101T020000
END:STANDARD
BEGIN:DAYLIGHT
TZNAME:EDT
DTSTART:20260308T020000
TZOFFSETFROM:-0500
TZOFFSETTO:-0400
RDATE:20270314T020000
END:DAYLIGHT
END:VTIMEZONE
BEGIN:VEVENT
UID:98bbee8a-1f72-4836-ab83-7fe2d1c69aee
DTSTAMP:20260422T075341Z
DESCRIPTION:
DTSTART;TZID=America/New_York:20260415T190000
DTEND;TZID=America/New_York:20260415T200000
LOCATION:https://us06web.zoom.us/webinar/register/WN_g6EakXQsS4i62BLLsLJP7g
 #/registration
SUMMARY:Strengths-Based Transition Planning
END:VEVENT
END:VCALENDAR
