BEGIN:VCALENDAR
VERSION:2.0
PRODID:-//planningforadultlife.org//NONSGML kigkonsult.se iCalcreator 2.30.
 10//
CALSCALE:GREGORIAN
METHOD:PUBLISH
UID:48bfd646-14e7-47db-882a-e01828ef91df
X-WR-CALDESC:
X-WR-RELCALID:f9fed0ce529fb72fab15b6004e84ce54
X-WR-TIMEZONE:America/New_York
BEGIN:VTIMEZONE
TZID:America/New_York
BEGIN:STANDARD
TZNAME:EST
DTSTART:20251102T020000
TZOFFSETFROM:-0400
TZOFFSETTO:-0500
RDATE:20261101T020000
RDATE:20271107T020000
END:STANDARD
BEGIN:DAYLIGHT
TZNAME:EDT
DTSTART:20260308T020000
TZOFFSETFROM:-0500
TZOFFSETTO:-0400
RDATE:20270314T020000
END:DAYLIGHT
END:VTIMEZONE
BEGIN:VEVENT
UID:5a6e75ff-99ed-4738-919a-491573436625
DTSTAMP:20260424T082203Z
DESCRIPTION:
DTSTART;TZID=America/New_York:20260617T190000
DTEND;TZID=America/New_York:20260617T200000
LOCATION:https://us06web.zoom.us/webinar/register/WN_e711Im05QK-kUMRt3t_c3Q
 #/registration
SUMMARY:Ruby's Rainbow
END:VEVENT
END:VCALENDAR
