BEGIN:VCALENDAR
VERSION:2.0
PRODID:-//planningforadultlife.org//NONSGML kigkonsult.se iCalcreator 2.30.
 10//
CALSCALE:GREGORIAN
METHOD:PUBLISH
UID:3ed3d38a-3d9b-425b-8a8d-2fd351e583dd
X-WR-CALDESC:This expo will start with an opening session on why planning i
 s critical and how to start a plan for your child with I/DD. The second se
 ssion will be explaining SSI and Medicaid and why you need to apply. After
  a break for attendees to visit with our service providers who will have i
 nformation tables set up\, the last session offers a choice of workshops o
 n 3 topics. \n\nThe Arc of Monmouth\n1158 Wayside Road\nTinton Falls\, NJ 
 07712
X-WR-RELCALID:441c5ea1fc057cb52b34b026be4a6ed4
X-WR-TIMEZONE:America/New_York
BEGIN:VTIMEZONE
TZID:America/New_York
BEGIN:STANDARD
TZNAME:EST
DTSTART:20181104T020000
TZOFFSETFROM:-0400
TZOFFSETTO:-0500
RDATE:20191103T020000
END:STANDARD
BEGIN:DAYLIGHT
TZNAME:EDT
DTSTART:20180311T020000
TZOFFSETFROM:-0500
TZOFFSETTO:-0400
RDATE:20190310T020000
RDATE:20200308T020000
END:DAYLIGHT
END:VTIMEZONE
BEGIN:VEVENT
UID:17267a39-5876-40f3-97ff-cd5caaa27252
DTSTAMP:20260421T103807Z
DESCRIPTION:This expo will start with an opening session on why planning is
  critical and how to start a plan for your child with I/DD. The second ses
 sion will be explaining SSI and Medicaid and why you need to apply. After 
 a break for attendees to visit with our service providers who will have in
 formation tables set up\, the last session offers a choice of workshops on
  3 topics. \n\nThe Arc of Monmouth\n1158 Wayside Road\nTinton Falls\, NJ 0
 7712
DTSTART;TZID=America/New_York:20181208T090000
DTEND;TZID=America/New_York:20181208T130000
LOCATION:The Arc of Monmouth
SUMMARY:FREE Parent Forum &Opportunity Expo-Monmouth
END:VEVENT
END:VCALENDAR
