BEGIN:VCALENDAR
VERSION:2.0
PRODID:-//planningforadultlife.org//NONSGML kigkonsult.se iCalcreator 2.30.
 10//
CALSCALE:GREGORIAN
METHOD:PUBLISH
UID:4299f275-f531-499a-af65-c9883c28c753
X-WR-CALDESC:
X-WR-RELCALID:0a01e18b5f4eeb4d9ccc8a1615a46080
X-WR-TIMEZONE:America/New_York
BEGIN:VTIMEZONE
TZID:America/New_York
BEGIN:STANDARD
TZNAME:EST
DTSTART:20181104T020000
TZOFFSETFROM:-0400
TZOFFSETTO:-0500
RDATE:20191103T020000
RDATE:20201101T020000
END:STANDARD
BEGIN:DAYLIGHT
TZNAME:EDT
DTSTART:20190310T020000
TZOFFSETFROM:-0500
TZOFFSETTO:-0400
RDATE:20200308T020000
RDATE:20210314T020000
END:DAYLIGHT
END:VTIMEZONE
BEGIN:VEVENT
UID:cd841054-3280-431f-95e8-5ee970726eb9
DTSTAMP:20260424T202334Z
DESCRIPTION:
DTSTART;TZID=America/New_York:20191026T090000
DTEND;TZID=America/New_York:20191026T130000
LOCATION:New Road School of Somerset\, 2200 Cottontail Ln\, Somerset\, Nj 0
 8873
SUMMARY:FREE Planning Conference - Somerset
END:VEVENT
END:VCALENDAR
