BEGIN:VCALENDAR
VERSION:2.0
PRODID:-//planningforadultlife.org//NONSGML kigkonsult.se iCalcreator 2.30.
 10//
CALSCALE:GREGORIAN
METHOD:PUBLISH
UID:d0f64429-3ef7-403b-84da-d8659f873329
X-WR-CALDESC:State Services for Students with I/DD\n\nNew Jersey programs p
 rovide many supports and services including family support\, crisis interv
 ention\, after school programs\, summer camp and intensive in-home and out
 -of-home supports\, just to name a few.  This presentation  will provide a
 nd overview of what these programs offer\, eligibility for services\, and 
 how young adults transition form children’s services to adult services whe
 n they turn 21. \n
X-WR-RELCALID:66cb4bdb88099dc45a2e1de832fb74d9
X-WR-TIMEZONE:America/New_York
BEGIN:VTIMEZONE
TZID:America/New_York
BEGIN:STANDARD
TZNAME:EST
DTSTART:20211107T020000
TZOFFSETFROM:-0400
TZOFFSETTO:-0500
RDATE:20221106T020000
END:STANDARD
BEGIN:DAYLIGHT
TZNAME:EDT
DTSTART:20220313T020000
TZOFFSETFROM:-0500
TZOFFSETTO:-0400
RDATE:20230312T020000
END:DAYLIGHT
END:VTIMEZONE
BEGIN:VEVENT
UID:b24f53ce-8730-429d-9601-03342f8f6e87
DTSTAMP:20260424T020953Z
DESCRIPTION:State Services for Students with I/DD\n\nNew Jersey programs pr
 ovide many supports and services including family support\, crisis interve
 ntion\, after school programs\, summer camp and intensive in-home and out-
 of-home supports\, just to name a few.  This presentation  will provide an
 d overview of what these programs offer\, eligibility for services\, and h
 ow young adults transition form children’s services to adult services when
  they turn 21. \n
DTSTART;TZID=America/New_York:20220406T120000
DTEND;TZID=America/New_York:20220406T130000
LOCATION:
SUMMARY:State Services for Students with I/DD
END:VEVENT
END:VCALENDAR
