BEGIN:VCALENDAR
VERSION:2.0
PRODID:-//planningforadultlife.org//NONSGML kigkonsult.se iCalcreator 2.30.
 10//
CALSCALE:GREGORIAN
METHOD:PUBLISH
UID:c2c38a60-243e-42a7-b93f-774c3c4c3b2f
X-WR-CALDESC:State Services for Students with I/DD\n\nNew Jersey programs p
 rovide many supports and services including family support\, crisis interv
 ention\, after school programs\, summer camp and intensive in-home and out
 -of-home supports\, just to name a few.  This presentation  will provide a
 nd overview of what these programs offer\, eligibility for services\, and 
 how young adults transition form children’s services to adult services whe
 n they turn 21. \n
X-WR-RELCALID:199f784da0a0c6f56706d3dec830522c
X-WR-TIMEZONE:America/New_York
BEGIN:VTIMEZONE
TZID:America/New_York
BEGIN:STANDARD
TZNAME:EST
DTSTART:20211107T020000
TZOFFSETFROM:-0400
TZOFFSETTO:-0500
RDATE:20221106T020000
RDATE:20231105T020000
END:STANDARD
BEGIN:DAYLIGHT
TZNAME:EDT
DTSTART:20220313T020000
TZOFFSETFROM:-0500
TZOFFSETTO:-0400
RDATE:20230312T020000
END:DAYLIGHT
END:VTIMEZONE
BEGIN:VEVENT
UID:15f36c89-68af-4f57-892a-d1a1b805cd3b
DTSTAMP:20260423T124022Z
DESCRIPTION:State Services for Students with I/DD\n\nNew Jersey programs pr
 ovide many supports and services including family support\, crisis interve
 ntion\, after school programs\, summer camp and intensive in-home and out-
 of-home supports\, just to name a few.  This presentation  will provide an
 d overview of what these programs offer\, eligibility for services\, and h
 ow young adults transition form children’s services to adult services when
  they turn 21. \n
DTSTART;TZID=America/New_York:20220609T180000
DTEND;TZID=America/New_York:20220609T190000
LOCATION:
SUMMARY:State Services for Students with I/DD
END:VEVENT
END:VCALENDAR
