BEGIN:VCALENDAR
VERSION:2.0
PRODID:-//planningforadultlife.org//NONSGML kigkonsult.se iCalcreator 2.30.
 10//
CALSCALE:GREGORIAN
METHOD:PUBLISH
UID:67fda233-a137-4232-90d9-60cc010fb286
X-WR-CALDESC:For many people\, a job is something that helps define who the
 y are. It give us a meaningful place to go everyday\, a way to explore our
  interests\, a means of earning money\, and a way to be a part of our comm
 unity. This workshop will discuss different employment options available t
 o individuals with intellectual and developmental disabilities and hands—o
 n tools for preparing students for employment.
X-WR-RELCALID:60d5e354f78bb157939bc8ab10ddab49
X-WR-TIMEZONE:America/New_York
BEGIN:VTIMEZONE
TZID:America/New_York
BEGIN:STANDARD
TZNAME:EST
DTSTART:20231105T020000
TZOFFSETFROM:-0400
TZOFFSETTO:-0500
RDATE:20241103T020000
END:STANDARD
BEGIN:DAYLIGHT
TZNAME:EDT
DTSTART:20240310T020000
TZOFFSETFROM:-0500
TZOFFSETTO:-0400
RDATE:20250309T020000
END:DAYLIGHT
END:VTIMEZONE
BEGIN:VEVENT
UID:dce00c21-d2ab-405e-9be7-eecc25dc2c21
DTSTAMP:20260422T175044Z
DESCRIPTION:For many people\, a job is something that helps define who they
  are. It give us a meaningful place to go everyday\, a way to explore our 
 interests\, a means of earning money\, and a way to be a part of our commu
 nity. This workshop will discuss different employment options available to
  individuals with intellectual and developmental disabilities and hands—on
  tools for preparing students for employment.
DTSTART;TZID=America/New_York:20240422T180000
DTEND;TZID=America/New_York:20240422T190000
LOCATION:Zoom link will be emailed
SUMMARY:HOW SERIES:  YES\, YOUR CHILD CAN WORK! WORKING TOWARD EMPLOYMENT F
 OR PEOPLE WITH IDD
END:VEVENT
END:VCALENDAR
