BEGIN:VCALENDAR
VERSION:2.0
PRODID:-//planningforadultlife.org//NONSGML kigkonsult.se iCalcreator 2.30.
 10//
CALSCALE:GREGORIAN
METHOD:PUBLISH
UID:2e712e41-15ab-44b6-8af2-cb1ea84b716c
X-WR-CALDESC:This webinar is intended for families of students with disabil
 ities who are interested in learning about the basics of Community-Based I
 nstruction (CBI). Topics include an overview of the evidence-based instruc
 tional practice\, benefits to students participating in CBI\, helpful talk
 ing points to discuss CBI opportunities during IEP meetings\, and the sign
 ificance of family partnerships in creating quality and meaningful CBI pra
 ctices. Participants are encouraged to engage in open discussions with the
  CBI Project team throughout the session. Educators are more than welcome 
 to attend too!
X-WR-RELCALID:4c47ee119bb7676f9a083aab452f1cab
X-WR-TIMEZONE:America/New_York
BEGIN:VTIMEZONE
TZID:America/New_York
BEGIN:STANDARD
TZNAME:EST
DTSTART:20231105T020000
TZOFFSETFROM:-0400
TZOFFSETTO:-0500
RDATE:20241103T020000
RDATE:20251102T020000
END:STANDARD
BEGIN:DAYLIGHT
TZNAME:EDT
DTSTART:20240310T020000
TZOFFSETFROM:-0500
TZOFFSETTO:-0400
RDATE:20250309T020000
END:DAYLIGHT
END:VTIMEZONE
BEGIN:VEVENT
UID:c66a83ba-a779-4ef7-88c0-fa1a1b06f919
DTSTAMP:20260422T130149Z
DESCRIPTION:This webinar is intended for families of students with disabili
 ties who are interested in learning about the basics of Community-Based In
 struction (CBI). Topics include an overview of the evidence-based instruct
 ional practice\, benefits to students participating in CBI\, helpful talki
 ng points to discuss CBI opportunities during IEP meetings\, and the signi
 ficance of family partnerships in creating quality and meaningful CBI prac
 tices. Participants are encouraged to engage in open discussions with the 
 CBI Project team throughout the session. Educators are more than welcome t
 o attend too!
DTSTART;TZID=America/New_York:20240821T180000
DTEND;TZID=America/New_York:20240821T193000
LOCATION:https://attendee.gotowebinar.com/register/7051488467600070235
SUMMARY:PFAL WEBINAR WEDNESDAY SERIES:    Navigating What is Community-Base
 d Instruction and How to Maximize This Opportunity In The IEP
END:VEVENT
END:VCALENDAR
