BEGIN:VCALENDAR
VERSION:2.0
PRODID:-//planningforadultlife.org//NONSGML kigkonsult.se iCalcreator 2.30.
 10//
CALSCALE:GREGORIAN
METHOD:PUBLISH
UID:776a9bd5-4e72-4c02-ae74-d2798768e403
X-WR-CALDESC:
X-WR-RELCALID:833c0fb2944ebabef32285ef99d68829
X-WR-TIMEZONE:America/New_York
BEGIN:VTIMEZONE
TZID:America/New_York
BEGIN:STANDARD
TZNAME:EST
DTSTART:20251102T020000
TZOFFSETFROM:-0400
TZOFFSETTO:-0500
RDATE:20261101T020000
END:STANDARD
BEGIN:DAYLIGHT
TZNAME:EDT
DTSTART:20260308T020000
TZOFFSETFROM:-0500
TZOFFSETTO:-0400
RDATE:20270314T020000
END:DAYLIGHT
END:VTIMEZONE
BEGIN:VEVENT
UID:c7b61a75-0fae-4796-8879-3b7340fa02ce
DTSTAMP:20260422T092650Z
DESCRIPTION:
DTSTART;TZID=America/New_York:20260414T180000
DTEND;TZID=America/New_York:20260414T190000
LOCATION:https://docs.google.com/forms/d/e/1FAIpQLSdDqsFUI8SNkDvWI0rKwOIgDH
 bcdWSqOX1yOiUjGIHNL_KrNw/viewform?pli=1
SUMMARY:Youth Advisory Board Meeting- 14-17 Year Olds
END:VEVENT
END:VCALENDAR
