BEGIN:VCALENDAR
VERSION:2.0
PRODID:-//planningforadultlife.org//NONSGML kigkonsult.se iCalcreator 2.30.
 10//
CALSCALE:GREGORIAN
METHOD:PUBLISH
UID:b8e0aa6d-ab73-4998-b753-e61a3e6735cd
X-WR-CALDESC:It's a bona fide college fair - browse NJ's best college trans
 ition programs\, meet professors and students\, enjoy a complimentary dinn
 er\, treats\, and swag\, and make some new friends! It's a fun way to plan
  for your future after high school!
X-WR-RELCALID:4b52c05c6f9dbd87b478d996bff9aea6
X-WR-TIMEZONE:America/New_York
BEGIN:VTIMEZONE
TZID:America/New_York
BEGIN:STANDARD
TZNAME:EST
DTSTART:20251102T020000
TZOFFSETFROM:-0400
TZOFFSETTO:-0500
RDATE:20261101T020000
END:STANDARD
BEGIN:DAYLIGHT
TZNAME:EDT
DTSTART:20260308T020000
TZOFFSETFROM:-0500
TZOFFSETTO:-0400
RDATE:20270314T020000
END:DAYLIGHT
END:VTIMEZONE
BEGIN:VEVENT
UID:ef92a884-cc22-49cd-9f67-93dbf13d81a7
DTSTAMP:20260422T093158Z
DESCRIPTION:It's a bona fide college fair - browse NJ's best college transi
 tion programs\, meet professors and students\, enjoy a complimentary dinne
 r\, treats\, and swag\, and make some new friends! It's a fun way to plan 
 for your future after high school!
DTSTART;TZID=America/New_York:20260422T173000
DTEND;TZID=America/New_York:20260422T193000
LOCATION:The Arc of Monmouth\, 1158 Wayside Road\, Tinton Falls\, NJ 07712 
 US
SUMMARY:Planning for Adult Life's Great College Fair
END:VEVENT
END:VCALENDAR
