BEGIN:VCALENDAR
VERSION:2.0
PRODID:-//planningforadultlife.org//NONSGML kigkonsult.se iCalcreator 2.30.
 10//
CALSCALE:GREGORIAN
METHOD:PUBLISH
UID:4113249d-b48e-4114-ae51-4758cce46a2c
X-WR-CALDESC:Yes\, Your Child Can Work! Working Toward Employment For Peopl
 e With I/DD  For many people\, a job is something that helps define who th
 ey are. It give us a meaningful place to go everyday\, a way to explore ou
 r interests\, a means of earning money\, and a way to be a part of our com
 munity. This workshop will discuss different employment options available 
 to individuals with intellectual and developmental disabilities and hands—
 on tools for preparing students for employment.
X-WR-RELCALID:c4ea715dfa0d02310750372761203dc8
X-WR-TIMEZONE:America/New_York
BEGIN:VTIMEZONE
TZID:America/New_York
BEGIN:STANDARD
TZNAME:EST
DTSTART:20191103T020000
TZOFFSETFROM:-0400
TZOFFSETTO:-0500
RDATE:20201101T020000
END:STANDARD
BEGIN:DAYLIGHT
TZNAME:EDT
DTSTART:20190310T020000
TZOFFSETFROM:-0500
TZOFFSETTO:-0400
RDATE:20200308T020000
RDATE:20210314T020000
END:DAYLIGHT
END:VTIMEZONE
BEGIN:VEVENT
UID:f6934836-bbf5-4491-99cb-48112a6e766e
DTSTAMP:20260423T090300Z
DESCRIPTION:Yes\, Your Child Can Work! Working Toward Employment For People
  With I/DD  For many people\, a job is something that helps define who the
 y are. It give us a meaningful place to go everyday\, a way to explore our
  interests\, a means of earning money\, and a way to be a part of our comm
 unity. This workshop will discuss different employment options available t
 o individuals with intellectual and developmental disabilities and hands—o
 n tools for preparing students for employment.
DTSTART;TZID=America/New_York:20191106T183000
DTEND;TZID=America/New_York:20191106T193000
LOCATION:Inroads to Opportunities (Occupational Center of Union County Inc.
 ) 301 Cox St.\, Roselle\, NJ 07203
SUMMARY:HOW SERIES: Yes\, Your Child Can Work! Working Toward Employment Fo
 r People With I/DD
END:VEVENT
END:VCALENDAR
