BEGIN:VCALENDAR
VERSION:2.0
PRODID:-//planningforadultlife.org//NONSGML kigkonsult.se iCalcreator 2.30.
 10//
CALSCALE:GREGORIAN
METHOD:PUBLISH
UID:3c69756f-2d10-4018-abec-e6d7e8b48d3c
X-WR-CALDESC:Accessing Services And 'Natural Supports' (HOW Series)\nEveryo
 ne has a right to be involved in their community. There are many supports 
 for people with disabilities to help them do just that. This workshop will
  discuss services for accessing the community and will provide hands—on to
 ols for helping students to obtain natural supports in the community.  It 
 will also include conversations on  how to navigate some of the challenges
  associated with accessing services. \n
X-WR-RELCALID:d198c940e4fa8a64a555095eed25cf95
X-WR-TIMEZONE:America/New_York
BEGIN:VTIMEZONE
TZID:America/New_York
BEGIN:STANDARD
TZNAME:EST
DTSTART:20191103T020000
TZOFFSETFROM:-0400
TZOFFSETTO:-0500
RDATE:20201101T020000
END:STANDARD
BEGIN:DAYLIGHT
TZNAME:EDT
DTSTART:20200308T020000
TZOFFSETFROM:-0500
TZOFFSETTO:-0400
RDATE:20210314T020000
END:DAYLIGHT
END:VTIMEZONE
BEGIN:VEVENT
UID:d1b15295-55de-4efb-bd39-bebe5d92f435
DTSTAMP:20260420T211400Z
DESCRIPTION:Accessing Services And 'Natural Supports' (HOW Series)\nEveryon
 e has a right to be involved in their community. There are many supports f
 or people with disabilities to help them do just that. This workshop will 
 discuss services for accessing the community and will provide hands—on too
 ls for helping students to obtain natural supports in the community.  It w
 ill also include conversations on  how to navigate some of the challenges 
 associated with accessing services. \n
DTSTART;TZID=America/New_York:20200310T183000
DTEND;TZID=America/New_York:20200310T193000
LOCATION:Accessing Services and Natural Supports
SUMMARY:Accessing Services And 'Natural Supports'
END:VEVENT
END:VCALENDAR
