BEGIN:VCALENDAR
VERSION:2.0
PRODID:-//planningforadultlife.org//NONSGML kigkonsult.se iCalcreator 2.30.
 10//
CALSCALE:GREGORIAN
METHOD:PUBLISH
UID:61db7c0f-218e-4a99-824f-e39fd6add83a
X-WR-CALDESC:Guardianship And Supported Decision Making: Just The Basics\n
 \nGuardianship can be a valuable tool which can be used to protect individ
 uals who don’t or no longer possess the ability to make appropriate person
 al or financial decisions for themselves. This workshop will help parents 
 and caregivers understand the guardianship process\, levels of guardianshi
 p and alternatives to guardianship. \n
X-WR-RELCALID:26b8d9166501765279889e597e69183f
X-WR-TIMEZONE:America/New_York
BEGIN:VTIMEZONE
TZID:America/New_York
BEGIN:STANDARD
TZNAME:EST
DTSTART:20191103T020000
TZOFFSETFROM:-0400
TZOFFSETTO:-0500
RDATE:20201101T020000
END:STANDARD
BEGIN:DAYLIGHT
TZNAME:EDT
DTSTART:20200308T020000
TZOFFSETFROM:-0500
TZOFFSETTO:-0400
RDATE:20210314T020000
END:DAYLIGHT
END:VTIMEZONE
BEGIN:VEVENT
UID:1c020386-8540-4722-8fe2-d68d03220ff3
DTSTAMP:20260421T181342Z
DESCRIPTION:Guardianship And Supported Decision Making: Just The Basics\n\n
 Guardianship can be a valuable tool which can be used to protect individua
 ls who don’t or no longer possess the ability to make appropriate personal
  or financial decisions for themselves. This workshop will help parents an
 d caregivers understand the guardianship process\, levels of guardianship 
 and alternatives to guardianship. \n
DTSTART;TZID=America/New_York:20200311T090000
DTEND;TZID=America/New_York:20200311T100000
LOCATION:Preakness School\, 1005 Hamburg Turnpike\, Wayne\, NJ 07470
SUMMARY:Guardianship And Supported Decision Making: Just The Basics
END:VEVENT
END:VCALENDAR
