BEGIN:VCALENDAR
VERSION:2.0
PRODID:-//planningforadultlife.org//NONSGML kigkonsult.se iCalcreator 2.30.
 10//
CALSCALE:GREGORIAN
METHOD:PUBLISH
UID:10c96af7-85e0-4c55-a146-2b7362116db9
X-WR-CALDESC:College Options For Students With I/DD\nThis workshop will pro
 vide information about the different opportunities that college may offer 
 your\nstudent with intellectual and developmental disabilities. We will su
 ggest steps to add to your\nstudent’s IEP that can help orient him or her 
 of the differences between high school and college and\nassessing supports
  offered to students with I/DD.\n
X-WR-RELCALID:492c06310b1866d1da57787fa9d75791
X-WR-TIMEZONE:America/New_York
BEGIN:VTIMEZONE
TZID:America/New_York
BEGIN:STANDARD
TZNAME:EST
DTSTART:20191103T020000
TZOFFSETFROM:-0400
TZOFFSETTO:-0500
RDATE:20201101T020000
RDATE:20211107T020000
END:STANDARD
BEGIN:DAYLIGHT
TZNAME:EDT
DTSTART:20200308T020000
TZOFFSETFROM:-0500
TZOFFSETTO:-0400
RDATE:20210314T020000
RDATE:20220313T020000
END:DAYLIGHT
END:VTIMEZONE
BEGIN:VEVENT
UID:854b9ffd-b9c6-4c25-ab70-fbfab46b1211
DTSTAMP:20260424T082016Z
DESCRIPTION:College Options For Students With I/DD\nThis workshop will prov
 ide information about the different opportunities that college may offer y
 our\nstudent with intellectual and developmental disabilities. We will sug
 gest steps to add to your\nstudent’s IEP that can help orient him or her o
 f the differences between high school and college and\nassessing supports 
 offered to students with I/DD.\n
DTSTART;TZID=America/New_York:20201029T190000
DTEND;TZID=America/New_York:20201029T200000
LOCATION:
SUMMARY:College Options
END:VEVENT
END:VCALENDAR
