BEGIN:VCALENDAR
VERSION:2.0
PRODID:-//planningforadultlife.org//NONSGML kigkonsult.se iCalcreator 2.30.
 10//
CALSCALE:GREGORIAN
METHOD:PUBLISH
UID:0abde13e-2c11-4f40-88ef-62fad39e762c
X-WR-CALDESC:Housing 101 \nAdults with intellectual and developmental disab
 ilities (I/DD) can live in a variety of places in the community. It’s impo
 rtant to determine the level of support needed by the person with I/DD whe
 n exploring the housing options available in your community. One size does
  not fit all\, so it’s never too early to get started on understanding the
  different housing options. This workshop will give an overview of the hou
 sing options available to people with I/DD and what to keep in mind when i
 dentifying the best fit for the person.
X-WR-RELCALID:72dbcc29a8a84b85b55abbad108abcb3
X-WR-TIMEZONE:America/New_York
BEGIN:VTIMEZONE
TZID:America/New_York
BEGIN:STANDARD
TZNAME:EST
DTSTART:20211107T020000
TZOFFSETFROM:-0400
TZOFFSETTO:-0500
RDATE:20221106T020000
END:STANDARD
BEGIN:DAYLIGHT
TZNAME:EDT
DTSTART:20210314T020000
TZOFFSETFROM:-0500
TZOFFSETTO:-0400
RDATE:20220313T020000
RDATE:20230312T020000
END:DAYLIGHT
END:VTIMEZONE
BEGIN:VEVENT
UID:e459749e-ed3f-4497-99f4-0ac15ebf47c9
DTSTAMP:20260420T192400Z
DESCRIPTION:Housing 101 \nAdults with intellectual and developmental disabi
 lities (I/DD) can live in a variety of places in the community. It’s impor
 tant to determine the level of support needed by the person with I/DD when
  exploring the housing options available in your community. One size does 
 not fit all\, so it’s never too early to get started on understanding the 
 different housing options. This workshop will give an overview of the hous
 ing options available to people with I/DD and what to keep in mind when id
 entifying the best fit for the person.
DTSTART;TZID=America/New_York:20220216T100000
DTEND;TZID=America/New_York:20220216T110000
LOCATION:Zoom link will be emailed
SUMMARY:HOW SERIES:   Housing 101
END:VEVENT
END:VCALENDAR
