BEGIN:VCALENDAR
VERSION:2.0
PRODID:-//planningforadultlife.org//NONSGML kigkonsult.se iCalcreator 2.30.
 10//
CALSCALE:GREGORIAN
METHOD:PUBLISH
UID:a60c3cbc-8bb2-476c-bc5b-344907c027bb
X-WR-CALDESC:Yes\, Your Child Can Work! Working Toward Employment For Peopl
 e With I/DD  For many people\, a job is something that helps define who th
 ey are. It give us a meaningful place to go everyday\, a way to explore ou
 r interests\, a means of earning money\, and a way to be a part of our com
 munity. This workshop will discuss different employment options available 
 to individuals with intellectual and developmental disabilities and hands—
 on tools for preparing students for employment.
X-WR-RELCALID:e5858fe586868001d3ee1792b6d7d577
X-WR-TIMEZONE:America/New_York
BEGIN:VTIMEZONE
TZID:America/New_York
BEGIN:STANDARD
TZNAME:EST
DTSTART:20211107T020000
TZOFFSETFROM:-0400
TZOFFSETTO:-0500
RDATE:20221106T020000
RDATE:20231105T020000
END:STANDARD
BEGIN:DAYLIGHT
TZNAME:EDT
DTSTART:20220313T020000
TZOFFSETFROM:-0500
TZOFFSETTO:-0400
RDATE:20230312T020000
RDATE:20240310T020000
END:DAYLIGHT
END:VTIMEZONE
BEGIN:VEVENT
UID:e2cb1adb-10f7-4ae6-a659-0d562971d29d
DTSTAMP:20260424T024054Z
DESCRIPTION:Yes\, Your Child Can Work! Working Toward Employment For People
  With I/DD  For many people\, a job is something that helps define who the
 y are. It give us a meaningful place to go everyday\, a way to explore our
  interests\, a means of earning money\, and a way to be a part of our comm
 unity. This workshop will discuss different employment options available t
 o individuals with intellectual and developmental disabilities and hands—o
 n tools for preparing students for employment.
DTSTART;TZID=America/New_York:20221027T183000
DTEND;TZID=America/New_York:20221027T193000
LOCATION:ZOOM will email link
SUMMARY:HOW SERIES: Yes\, Your Child Can Work! Working Toward Employment Fo
 r People With I/DD
END:VEVENT
END:VCALENDAR
