BEGIN:VCALENDAR
VERSION:2.0
PRODID:-//planningforadultlife.org//NONSGML kigkonsult.se iCalcreator 2.30.
 10//
CALSCALE:GREGORIAN
METHOD:PUBLISH
UID:4f31515e-1093-4d19-a933-f95b02d31a54
X-WR-CALDESC:
X-WR-RELCALID:73d370342d2ccc3ed98b202733edb3c0
X-WR-TIMEZONE:America/New_York
BEGIN:VTIMEZONE
TZID:America/New_York
BEGIN:STANDARD
TZNAME:EST
DTSTART:20221106T020000
TZOFFSETFROM:-0400
TZOFFSETTO:-0500
RDATE:20231105T020000
RDATE:20241103T020000
END:STANDARD
BEGIN:DAYLIGHT
TZNAME:EDT
DTSTART:20230312T020000
TZOFFSETFROM:-0500
TZOFFSETTO:-0400
RDATE:20240310T020000
RDATE:20250309T020000
END:DAYLIGHT
END:VTIMEZONE
BEGIN:VEVENT
UID:1619e7de-fc04-4515-9a06-f6bb3cb87a72
DTSTAMP:20260421T091321Z
DESCRIPTION:
DTSTART;TZID=America/New_York:20231014T090000
DTEND;TZID=America/New_York:20231014T130000
LOCATION:CLIFTON HIGH SCHOOL 333 COLFAX AVE.\, CLIFTON\, NJ 07013
SUMMARY:FREE PLANNING CONFERENCE -CLIFTON HIGH SCHOOL\, 333 COLFAX AVE\, CL
 IFTON\, NJ 07013
END:VEVENT
END:VCALENDAR
