BEGIN:VCALENDAR
VERSION:2.0
PRODID:-//planningforadultlife.org//NONSGML kigkonsult.se iCalcreator 2.30.
 10//
CALSCALE:GREGORIAN
METHOD:PUBLISH
UID:d4623f10-5c63-4918-943a-04e953e1b396
X-WR-CALDESC:Join us for an insightful webinar tailored to families navigat
 ing financial planning for individuals with disabilities. Understanding th
 e intricacies of financial management and securing future stability is cru
 cial for ensuring lifelong support and well-being.\nKey Topics Include:\nI
 ntroduction to Special Needs Financial Planning: Overview of unique financ
 ial considerations and strategies.\nGovernment Benefits and Eligibility: U
 nderstanding SSI\, SSDI\, Medicaid\, and other benefits crucial for financ
 ial planning.\nSpecial Needs Trusts: How to establish and manage trusts to
  protect assets without jeopardizing eligibility for benefits.\nEstate Pla
 nning: Essential elements of creating a comprehensive estate plan that inc
 ludes provisions for a loved one with disabilities.\nTax Considerations: I
 nsight into tax deductions\, credits\, and strategies specific to families
  with disabilities.\nFinancial Tools and Resources: Overview of tools\, pr
 ograms\, and community resources available to support families.\nQ&A Sessi
 on: Opportunity to get your questions answered by financial planning exper
 ts specializing in disabilities.\nWho Should Attend:\n- Families and careg
 ivers of individuals with disabilities\n- Financial planners and advisors
 \n- Legal professionals specializing in estate and disability law\n- Anyon
 e interested in securing a financially stable future for loved ones with d
 isabilities\nDon't miss this valuable opportunity to gain practical insigh
 ts and guidance on navigating financial planning for families of individua
 ls with disabilities. Secure your spot today!\n\n
X-WR-RELCALID:6c6951e11f6161d1869e2b986a67f47a
X-WR-TIMEZONE:America/New_York
BEGIN:VTIMEZONE
TZID:America/New_York
BEGIN:STANDARD
TZNAME:EST
DTSTART:20241103T020000
TZOFFSETFROM:-0400
TZOFFSETTO:-0500
RDATE:20251102T020000
END:STANDARD
BEGIN:DAYLIGHT
TZNAME:EDT
DTSTART:20240310T020000
TZOFFSETFROM:-0500
TZOFFSETTO:-0400
RDATE:20250309T020000
RDATE:20260308T020000
END:DAYLIGHT
END:VTIMEZONE
BEGIN:VEVENT
UID:4bb811d9-a85d-453b-8060-db7ae9b9fd93
DTSTAMP:20260421T183152Z
DESCRIPTION:Join us for an insightful webinar tailored to families navigati
 ng financial planning for individuals with disabilities. Understanding the
  intricacies of financial management and securing future stability is cruc
 ial for ensuring lifelong support and well-being.\nKey Topics Include:\nIn
 troduction to Special Needs Financial Planning: Overview of unique financi
 al considerations and strategies.\nGovernment Benefits and Eligibility: Un
 derstanding SSI\, SSDI\, Medicaid\, and other benefits crucial for financi
 al planning.\nSpecial Needs Trusts: How to establish and manage trusts to 
 protect assets without jeopardizing eligibility for benefits.\nEstate Plan
 ning: Essential elements of creating a comprehensive estate plan that incl
 udes provisions for a loved one with disabilities.\nTax Considerations: In
 sight into tax deductions\, credits\, and strategies specific to families 
 with disabilities.\nFinancial Tools and Resources: Overview of tools\, pro
 grams\, and community resources available to support families.\nQ&A Sessio
 n: Opportunity to get your questions answered by financial planning expert
 s specializing in disabilities.\nWho Should Attend:\n- Families and caregi
 vers of individuals with disabilities\n- Financial planners and advisors\n
 - Legal professionals specializing in estate and disability law\n- Anyone 
 interested in securing a financially stable future for loved ones with dis
 abilities\nDon't miss this valuable opportunity to gain practical insights
  and guidance on navigating financial planning for families of individuals
  with disabilities. Secure your spot today!\n\n
DTSTART;TZID=America/New_York:20241218T180000
DTEND;TZID=America/New_York:20241218T193000
LOCATION:https://attendee.gotowebinar.com/register/245255305457303133
SUMMARY:PFAL WEBINAR WEDNESDAY SERIES:   Navigating Financial Planning for 
 Families of Individuals with Disabilities
END:VEVENT
END:VCALENDAR
